BEGIN:VCALENDAR
VERSION:2.0
PRODID:-//calparents.org//NONSGML kigkonsult.se iCalcreator 2.30.10//
CALSCALE:GREGORIAN
METHOD:PUBLISH
UID:d8486994-b406-4fbd-ae3e-b6649d149bf4
X-WR-CALDESC:Under current California law\, professionals who serve childre
 n and families—physicians\, teachers\, counselors\, law enforcement\, and 
 other child serving professionals—are mandated to report to the appropriat
 e government entity cases of suspected child abuse or neglect. Data shows 
 that only a small percentage of these reports are confirmed as maltreatmen
 t.\n\nAnd Black\, Native American and Latinx children and families in Cali
 fornia are much more likely to be reported and become involved in the chil
 d welfare system.\n\nThis presentation will outline a path to reform our c
 urrent system of mandated reporters to one of community supporters to keep
  families strong and together.\n\nCome join us to learn about the movement
  within California to become community supporters vs. mandated reporters. 
 An important event for anyone working with children and families!
X-WR-RELCALID:492888a0e9fd1fca222f99433d0074e0
X-WR-TIMEZONE:America/Los_Angeles
BEGIN:VTIMEZONE
TZID:America/Los_Angeles
BEGIN:STANDARD
TZNAME:PST
DTSTART:20231105T020000
TZOFFSETFROM:-0700
TZOFFSETTO:-0800
RDATE:20241103T020000
RDATE:20251102T020000
END:STANDARD
BEGIN:DAYLIGHT
TZNAME:PDT
DTSTART:20240310T020000
TZOFFSETFROM:-0800
TZOFFSETTO:-0700
RDATE:20250309T020000
RDATE:20260308T020000
END:DAYLIGHT
END:VTIMEZONE
BEGIN:VEVENT
UID:3e1fb349-4351-4e97-b308-0e50f76998fb
DTSTAMP:20260422T171600Z
DESCRIPTION:Under current California law\, professionals who serve children
  and families—physicians\, teachers\, counselors\, law enforcement\, and o
 ther child serving professionals—are mandated to report to the appropriate
  government entity cases of suspected child abuse or neglect. Data shows t
 hat only a small percentage of these reports are confirmed as maltreatment
 .\n\nAnd Black\, Native American and Latinx children and families in Calif
 ornia are much more likely to be reported and become involved in the child
  welfare system.\n\nThis presentation will outline a path to reform our cu
 rrent system of mandated reporters to one of community supporters to keep 
 families strong and together.\n\nCome join us to learn about the movement 
 within California to become community supporters vs. mandated reporters. A
 n important event for anyone working with children and families!
DTSTART;TZID=America/Los_Angeles:20241003T133000
DTEND;TZID=America/Los_Angeles:20241003T150000
LOCATION:Free online event
SUMMARY:Preventing Child Abuse: Shifting from Mandated Reporting to Communi
 ty Supporting
END:VEVENT
END:VCALENDAR
